BEGIN:VCALENDAR
VERSION:2.0
PRODID:-//LHEO – Les Ateliers du LHEO:  évolution de l’indexation ROM
 E et impacts sur le Langage harmonisé de  l'offre de formation//Sites Con
 formes//FR
BEGIN:VEVENT
SUMMARY:Les Ateliers du LHEO:  évolution de l’indexation ROME et impact
 s sur le Langage harmonisé de  l'offre de formation
DTSTART:20260319T093000Z
DTEND:20260319T110000Z
DTSTAMP:20260421T210917Z
UID:225
LOCATION:Visioconférence
END:VEVENT
END:VCALENDAR
